BEGIN:VCALENDAR
VERSION:2.0
PRODID:-//LaChance Vineyards - ECPv6.15.15//NONSGML v1.0//EN
CALSCALE:GREGORIAN
METHOD:PUBLISH
X-WR-CALNAME:LaChance Vineyards
X-ORIGINAL-URL:https://lachancevineyards.com
X-WR-CALDESC:Events for LaChance Vineyards
REFRESH-INTERVAL;VALUE=DURATION:PT1H
X-Robots-Tag:noindex
X-PUBLISHED-TTL:PT1H
BEGIN:VTIMEZONE
TZID:America/Chicago
BEGIN:DAYLIGHT
TZOFFSETFROM:-0600
TZOFFSETTO:-0500
TZNAME:CDT
DTSTART:20240310T080000
END:DAYLIGHT
BEGIN:STANDARD
TZOFFSETFROM:-0500
TZOFFSETTO:-0600
TZNAME:CST
DTSTART:20241103T070000
END:STANDARD
BEGIN:DAYLIGHT
TZOFFSETFROM:-0600
TZOFFSETTO:-0500
TZNAME:CDT
DTSTART:20250309T080000
END:DAYLIGHT
BEGIN:STANDARD
TZOFFSETFROM:-0500
TZOFFSETTO:-0600
TZNAME:CST
DTSTART:20251102T070000
END:STANDARD
BEGIN:DAYLIGHT
TZOFFSETFROM:-0600
TZOFFSETTO:-0500
TZNAME:CDT
DTSTART:20260308T080000
END:DAYLIGHT
BEGIN:STANDARD
TZOFFSETFROM:-0500
TZOFFSETTO:-0600
TZNAME:CST
DTSTART:20261101T070000
END:STANDARD
END:VTIMEZONE
BEGIN:VEVENT
DTSTART;TZID=America/Chicago:20250629T130000
DTEND;TZID=America/Chicago:20250629T160000
DTSTAMP:20260421T025720
CREATED:20250521T205617Z
LAST-MODIFIED:20250521T205617Z
UID:10000059-1751202000-1751212800@lachancevineyards.com
SUMMARY:Margarita Bill LIVE 1-4pm De Soto
DESCRIPTION:🎶 Margarita Bill Live at LaChance Vineyards – June 29\, 2025 | 1–4PM\nClose out your weekend with sunshine\, wine\, and the laid-back island sounds of Margarita Bill\, performing live at LaChance Vineyards on Sunday\, June 29th from 1:00 to 4:00 PM. Known for his beachy vibe\, smooth vocals\, and feel-good acoustic tunes\, Margarita Bill brings the spirit of the tropics straight to Missouri wine country. \nIt’s the perfect Sunday escape—kick back with a glass of sangria or one of our award-winning wines\, enjoy lunch from our full kitchen\, and soak in the scenic beauty of our vineyard. Whether you’re dancing under the tent or lounging with friends\, this afternoon promises great music and even better memories. \nAdmission is free and all ages are welcome. For more details\, visit www.lachancevineyards.com/events or call (636) 586-2777. Let’s end June on a high note—see you in the vines!
URL:https://lachancevineyards.com/event/margarita-bill-live-1-4pm-de-soto/
LOCATION:LaChance Vineyards\, 12237 Peter Moore Ln\, De Soto\, MO\, 63020\, United States
CATEGORIES:Desoto,Music
ATTACH;FMTTYPE=image/jpeg:https://lachancevineyards.com/wp-content/uploads/2025/05/margarita-bill.jpg
END:VEVENT
BEGIN:VEVENT
DTSTART;TZID=America/Chicago:20250629T130000
DTEND;TZID=America/Chicago:20250629T160000
DTSTAMP:20260421T025720
CREATED:20250627T200319Z
LAST-MODIFIED:20250627T201129Z
UID:10000065-1751202000-1751212800@lachancevineyards.com
SUMMARY:Vince Martin LIVE! 1-4pm Kimmswick
DESCRIPTION:
URL:https://lachancevineyards.com/event/vince-martin-live-1-4pm-kimmswick/
LOCATION:LaChance Winery & Restaurant\, 6035 2nd Street\, Kimmswick\, MO\, 63053\, United States
CATEGORIES:Kimmswick,Music
ATTACH;FMTTYPE=image/jpeg:https://lachancevineyards.com/wp-content/uploads/2025/06/Vince-Martin-Photo-scaled-1.jpg
END:VEVENT
END:VCALENDAR