BEGIN:VCALENDAR
VERSION:2.0
PRODID:-//LaChance Vineyards - ECPv6.15.15//NONSGML v1.0//EN
CALSCALE:GREGORIAN
METHOD:PUBLISH
X-WR-CALNAME:LaChance Vineyards
X-ORIGINAL-URL:https://lachancevineyards.com
X-WR-CALDESC:Events for LaChance Vineyards
REFRESH-INTERVAL;VALUE=DURATION:PT1H
X-Robots-Tag:noindex
X-PUBLISHED-TTL:PT1H
BEGIN:VTIMEZONE
TZID:America/Chicago
BEGIN:DAYLIGHT
TZOFFSETFROM:-0600
TZOFFSETTO:-0500
TZNAME:CDT
DTSTART:20240310T080000
END:DAYLIGHT
BEGIN:STANDARD
TZOFFSETFROM:-0500
TZOFFSETTO:-0600
TZNAME:CST
DTSTART:20241103T070000
END:STANDARD
BEGIN:DAYLIGHT
TZOFFSETFROM:-0600
TZOFFSETTO:-0500
TZNAME:CDT
DTSTART:20250309T080000
END:DAYLIGHT
BEGIN:STANDARD
TZOFFSETFROM:-0500
TZOFFSETTO:-0600
TZNAME:CST
DTSTART:20251102T070000
END:STANDARD
BEGIN:DAYLIGHT
TZOFFSETFROM:-0600
TZOFFSETTO:-0500
TZNAME:CDT
DTSTART:20260308T080000
END:DAYLIGHT
BEGIN:STANDARD
TZOFFSETFROM:-0500
TZOFFSETTO:-0600
TZNAME:CST
DTSTART:20261101T070000
END:STANDARD
BEGIN:DAYLIGHT
TZOFFSETFROM:-0600
TZOFFSETTO:-0500
TZNAME:CDT
DTSTART:20270314T080000
END:DAYLIGHT
BEGIN:STANDARD
TZOFFSETFROM:-0500
TZOFFSETTO:-0600
TZNAME:CST
DTSTART:20271107T070000
END:STANDARD
END:VTIMEZONE
BEGIN:VEVENT
DTSTART;TZID=America/Chicago:20260403T180000
DTEND;TZID=America/Chicago:20260403T210000
DTSTAMP:20260421T134606
CREATED:20260328T002656Z
LAST-MODIFIED:20260328T002656Z
UID:10000229-1775239200-1775250000@lachancevineyards.com
SUMMARY:Kevin Gruen 6-9pm | Kimmswick
DESCRIPTION:
URL:https://lachancevineyards.com/event/kevin-gruen-6-9pm-kimmswick/
LOCATION:LaChance Winery & Restaurant\, 6035 2nd Street\, Kimmswick\, MO\, 63053\, United States
CATEGORIES:Kimmswick,Music
ATTACH;FMTTYPE=image/png:https://lachancevineyards.com/wp-content/uploads/2025/07/KIMM-MUSIC-GRAP.png
END:VEVENT
BEGIN:VEVENT
DTSTART;TZID=America/Chicago:20251101T130000
DTEND;TZID=America/Chicago:20251101T160000
DTSTAMP:20260421T134606
CREATED:20250928T005254Z
LAST-MODIFIED:20250928T005254Z
UID:10000166-1762002000-1762012800@lachancevineyards.com
SUMMARY:Leslie Craig Duo 1-4pm | Kimmswick
DESCRIPTION:
URL:https://lachancevineyards.com/event/leslie-craig-duo-1-4pm-kimmswick-2/
LOCATION:LaChance Winery & Restaurant\, 6035 2nd Street\, Kimmswick\, MO\, 63053\, United States
CATEGORIES:Kimmswick,Music
ATTACH;FMTTYPE=image/png:https://lachancevineyards.com/wp-content/uploads/2025/07/KIMM-MUSIC-GRAP.png
END:VEVENT
BEGIN:VEVENT
DTSTART;TZID=America/Chicago:20251019T130000
DTEND;TZID=America/Chicago:20251019T160000
DTSTAMP:20260421T134606
CREATED:20250928T005156Z
LAST-MODIFIED:20250928T005156Z
UID:10000165-1760878800-1760889600@lachancevineyards.com
SUMMARY:Trixie Delight Duo 1-4pm | Kimmswick
DESCRIPTION:
URL:https://lachancevineyards.com/event/trixie-delight-duo-1-4pm-kimmswick-2/
LOCATION:LaChance Winery & Restaurant\, 6035 2nd Street\, Kimmswick\, MO\, 63053\, United States
CATEGORIES:Kimmswick,Music
ATTACH;FMTTYPE=image/jpeg:https://lachancevineyards.com/wp-content/uploads/2025/07/trixie-duo.jpg
END:VEVENT
BEGIN:VEVENT
DTSTART;TZID=America/Chicago:20251018T180000
DTEND;TZID=America/Chicago:20251018T220000
DTSTAMP:20260421T134606
CREATED:20250926T001516Z
LAST-MODIFIED:20250926T012737Z
UID:10000140-1760810400-1760824800@lachancevineyards.com
SUMMARY:Nightmare on Elm St. Halloween Party | 6-10pm Kimmswick
DESCRIPTION:🎃👻 Nightmare on Elm Street Halloween Party 👻🎃 \nStep into the shadows at LaChance Winery & Restaurant for a night you won’t forget… if you dare! \n📅 Saturday\, October 18th🕕 6–11 PM | DJ spinning 7–11 PM📍 At the corner of 2nd & Elm\, Kimmswick\, MO \nThis 21+ event will bring the fright and the fun with:✨ A live DJ and dance floor to keep the party going✨ Spooky costume contest with prizes✨ Delicious food & drink specials all night long✨ Creepy surprises around every corner \nGather your ghouls\, grab your costumes\, and join us for a chilling good time at the historic LaChance Winery & Restaurant. \n🩸 It’s the Halloween party you don’t want to miss!
URL:https://lachancevineyards.com/event/nightmare-on-elm-st-halloween-party-6-10pm-kimmswick/
LOCATION:LaChance Winery & Restaurant\, 6035 2nd Street\, Kimmswick\, MO\, 63053\, United States
CATEGORIES:Kimmswick,Special Event
ATTACH;FMTTYPE=image/png:https://lachancevineyards.com/wp-content/uploads/2025/09/nightmare-on-elm-2025-1920-x-1080-px-1.png
END:VEVENT
BEGIN:VEVENT
DTSTART;TZID=America/Chicago:20251018T130000
DTEND;TZID=America/Chicago:20251018T160000
DTSTAMP:20260421T134606
CREATED:20250928T005100Z
LAST-MODIFIED:20250928T005100Z
UID:10000164-1760792400-1760803200@lachancevineyards.com
SUMMARY:Vince Martin 1-4pm | Kimmswick
DESCRIPTION:
URL:https://lachancevineyards.com/event/vince-martin-1-4pm-kimmswick-2/
LOCATION:LaChance Winery & Restaurant\, 6035 2nd Street\, Kimmswick\, MO\, 63053\, United States
CATEGORIES:Kimmswick,Music
ATTACH;FMTTYPE=image/png:https://lachancevineyards.com/wp-content/uploads/2025/07/KIMM-MUSIC-GRAP.png
END:VEVENT
BEGIN:VEVENT
DTSTART;TZID=America/Chicago:20251017T190000
DTEND;TZID=America/Chicago:20251017T220000
DTSTAMP:20260421T134606
CREATED:20250928T004959Z
LAST-MODIFIED:20250928T004959Z
UID:10000163-1760727600-1760738400@lachancevineyards.com
SUMMARY:Steve Ewing Duo 7-10pm | Kimmswick
DESCRIPTION:
URL:https://lachancevineyards.com/event/steve-ewing-duo-7-10pm-kimmswick-2/
LOCATION:LaChance Winery & Restaurant\, 6035 2nd Street\, Kimmswick\, MO\, 63053\, United States
CATEGORIES:Kimmswick,Music
ATTACH;FMTTYPE=image/jpeg:https://lachancevineyards.com/wp-content/uploads/2025/07/steve-ewing-scaled.jpg
END:VEVENT
BEGIN:VEVENT
DTSTART;TZID=America/Chicago:20251012T130000
DTEND;TZID=America/Chicago:20251012T160000
DTSTAMP:20260421T134606
CREATED:20250928T004855Z
LAST-MODIFIED:20250928T004855Z
UID:10000162-1760274000-1760284800@lachancevineyards.com
SUMMARY:Common Ground 1-4pm | Kimmswick
DESCRIPTION:
URL:https://lachancevineyards.com/event/common-ground-1-4pm-kimmswick-2/
LOCATION:LaChance Winery & Restaurant\, 6035 2nd Street\, Kimmswick\, MO\, 63053\, United States
CATEGORIES:Kimmswick,Music
ATTACH;FMTTYPE=image/png:https://lachancevineyards.com/wp-content/uploads/2025/07/KIMM-MUSIC-GRAP.png
END:VEVENT
BEGIN:VEVENT
DTSTART;TZID=America/Chicago:20251012T130000
DTEND;TZID=America/Chicago:20251012T160000
DTSTAMP:20260421T134606
CREATED:20250927T234147Z
LAST-MODIFIED:20250927T234147Z
UID:10000146-1760274000-1760284800@lachancevineyards.com
SUMMARY:TRIXIE DELIGHT DUO 1-4PM | DESOTO
DESCRIPTION:
URL:https://lachancevineyards.com/event/trixie-delight-duo-1-4pm-desoto-3/
LOCATION:LaChance Vineyards\, 12237 Peter Moore Ln\, De Soto\, MO\, 63020\, United States
CATEGORIES:Kimmswick,Music
ATTACH;FMTTYPE=image/jpeg:https://lachancevineyards.com/wp-content/uploads/2025/07/trixie-duo.jpg
END:VEVENT
BEGIN:VEVENT
DTSTART;TZID=America/Chicago:20251010T180000
DTEND;TZID=America/Chicago:20251010T210000
DTSTAMP:20260421T134606
CREATED:20250928T004805Z
LAST-MODIFIED:20250928T004805Z
UID:10000161-1760119200-1760130000@lachancevineyards.com
SUMMARY:Vintage String Theory 6-9pm | Kimmswick
DESCRIPTION:
URL:https://lachancevineyards.com/event/vintage-string-theory-6-9pm-kimmswick/
LOCATION:LaChance Winery & Restaurant\, 6035 2nd Street\, Kimmswick\, MO\, 63053\, United States
CATEGORIES:Kimmswick,Music
ATTACH;FMTTYPE=image/png:https://lachancevineyards.com/wp-content/uploads/2025/07/KIMM-MUSIC-GRAP.png
END:VEVENT
BEGIN:VEVENT
DTSTART;TZID=America/Chicago:20251005T130000
DTEND;TZID=America/Chicago:20251005T160000
DTSTAMP:20260421T134606
CREATED:20250928T004621Z
LAST-MODIFIED:20250928T004621Z
UID:10000160-1759669200-1759680000@lachancevineyards.com
SUMMARY:Jason Garms 1-4pm | Kimmswick
DESCRIPTION:
URL:https://lachancevineyards.com/event/jason-garms-1-4pm-kimmswick-2/
LOCATION:LaChance Winery & Restaurant\, 6035 2nd Street\, Kimmswick\, MO\, 63053\, United States
CATEGORIES:Kimmswick,Music
ATTACH;FMTTYPE=image/png:https://lachancevineyards.com/wp-content/uploads/2025/07/KIMM-MUSIC-GRAP.png
END:VEVENT
BEGIN:VEVENT
DTSTART;TZID=America/Chicago:20251004T120000
DTEND;TZID=America/Chicago:20251004T150000
DTSTAMP:20260421T134606
CREATED:20250928T002513Z
LAST-MODIFIED:20250928T002513Z
UID:10000159-1759579200-1759590000@lachancevineyards.com
SUMMARY:Amaryllis 12-3pm | Kimmswick
DESCRIPTION:
URL:https://lachancevineyards.com/event/amaryllis-12-3pm-kimmswick/
LOCATION:LaChance Winery & Restaurant\, 6035 2nd Street\, Kimmswick\, MO\, 63053\, United States
CATEGORIES:Kimmswick,Music
ATTACH;FMTTYPE=image/png:https://lachancevineyards.com/wp-content/uploads/2025/07/KIMM-MUSIC-GRAP.png
END:VEVENT
BEGIN:VEVENT
DTSTART;TZID=America/Chicago:20251003T180000
DTEND;TZID=America/Chicago:20251003T210000
DTSTAMP:20260421T134606
CREATED:20250928T002306Z
LAST-MODIFIED:20250928T002306Z
UID:10000158-1759514400-1759525200@lachancevineyards.com
SUMMARY:Riley Holtz 6-9pm | Kimmswick
DESCRIPTION:
URL:https://lachancevineyards.com/event/riley-holtz-6-9pm-kimmswick-2/
LOCATION:LaChance Winery & Restaurant\, 6035 2nd Street\, Kimmswick\, MO\, 63053\, United States
CATEGORIES:Kimmswick,Music
ATTACH;FMTTYPE=image/png:https://lachancevineyards.com/wp-content/uploads/2025/07/KIMM-MUSIC-GRAP.png
END:VEVENT
BEGIN:VEVENT
DTSTART;TZID=America/Chicago:20250928T130000
DTEND;TZID=America/Chicago:20250928T160000
DTSTAMP:20260421T134606
CREATED:20250904T153911Z
LAST-MODIFIED:20250904T153911Z
UID:10000137-1759064400-1759075200@lachancevineyards.com
SUMMARY:Even Steven | 1-4pm Kimmswick
DESCRIPTION:
URL:https://lachancevineyards.com/event/even-steven-1-4pm-kimmswick/
LOCATION:LaChance Winery & Restaurant\, 6035 2nd Street\, Kimmswick\, MO\, 63053\, United States
CATEGORIES:Kimmswick,Music
ATTACH;FMTTYPE=image/png:https://lachancevineyards.com/wp-content/uploads/2025/07/KIMM-MUSIC-GRAP.png
END:VEVENT
BEGIN:VEVENT
DTSTART;TZID=America/Chicago:20250927T180000
DTEND;TZID=America/Chicago:20250927T210000
DTSTAMP:20260421T134606
CREATED:20250904T153720Z
LAST-MODIFIED:20250927T233209Z
UID:10000136-1758996000-1759006800@lachancevineyards.com
SUMMARY:Andrew Dahle | 6-9pm Kimmswick
DESCRIPTION:
URL:https://lachancevineyards.com/event/frogmore-stew-7-10pm-kimmswick-2/
LOCATION:LaChance Winery & Restaurant\, 6035 2nd Street\, Kimmswick\, MO\, 63053\, United States
CATEGORIES:Kimmswick,Music
ATTACH;FMTTYPE=image/png:https://lachancevineyards.com/wp-content/uploads/2025/07/KIMM-MUSIC-GRAP.png
END:VEVENT
BEGIN:VEVENT
DTSTART;TZID=America/Chicago:20250927T130000
DTEND;TZID=America/Chicago:20250927T160000
DTSTAMP:20260421T134606
CREATED:20250904T153559Z
LAST-MODIFIED:20250904T153559Z
UID:10000135-1758978000-1758988800@lachancevineyards.com
SUMMARY:Josh Driskill | 1-4pm Kimmswick
DESCRIPTION:
URL:https://lachancevineyards.com/event/josh-driskill-1-4pm-kimmswick/
LOCATION:LaChance Winery & Restaurant\, 6035 2nd Street\, Kimmswick\, MO\, 63053\, United States
CATEGORIES:Kimmswick,Music
ATTACH;FMTTYPE=image/png:https://lachancevineyards.com/wp-content/uploads/2025/07/KIMM-MUSIC-GRAP.png
END:VEVENT
BEGIN:VEVENT
DTSTART;TZID=America/Chicago:20250926T070000
DTEND;TZID=America/Chicago:20250926T220000
DTSTAMP:20260421T134606
CREATED:20250904T153434Z
LAST-MODIFIED:20250904T153434Z
UID:10000134-1758870000-1758924000@lachancevineyards.com
SUMMARY:Ed Callison & Darren Hank | 7-10pm Kimmswick
DESCRIPTION:
URL:https://lachancevineyards.com/event/ed-callison-darren-hank-7-10pm-kimmswick/
LOCATION:LaChance Winery & Restaurant\, 6035 2nd Street\, Kimmswick\, MO\, 63053\, United States
CATEGORIES:Kimmswick,Music
ATTACH;FMTTYPE=image/png:https://lachancevineyards.com/wp-content/uploads/2025/07/KIMM-MUSIC-GRAP.png
END:VEVENT
BEGIN:VEVENT
DTSTART;TZID=America/Chicago:20250921T130000
DTEND;TZID=America/Chicago:20250921T160000
DTSTAMP:20260421T134606
CREATED:20250904T153220Z
LAST-MODIFIED:20250904T153220Z
UID:10000133-1758459600-1758470400@lachancevineyards.com
SUMMARY:Clint & Co | 1-4pm Kimmswick
DESCRIPTION:
URL:https://lachancevineyards.com/event/clint-co-1-4pm-kimmswick/
LOCATION:LaChance Winery & Restaurant\, 6035 2nd Street\, Kimmswick\, MO\, 63053\, United States
CATEGORIES:Kimmswick,Music
ATTACH;FMTTYPE=image/png:https://lachancevineyards.com/wp-content/uploads/2025/07/KIMM-MUSIC-GRAP.png
END:VEVENT
BEGIN:VEVENT
DTSTART;TZID=America/Chicago:20250920T180000
DTEND;TZID=America/Chicago:20250920T210000
DTSTAMP:20260421T134606
CREATED:20250904T152828Z
LAST-MODIFIED:20250904T152828Z
UID:10000132-1758391200-1758402000@lachancevineyards.com
SUMMARY:B&B Rock Solid Acoustic | 6-9pm
DESCRIPTION:
URL:https://lachancevineyards.com/event/bb-rock-solid-acoustic-6-9pm/
LOCATION:LaChance Winery & Restaurant\, 6035 2nd Street\, Kimmswick\, MO\, 63053\, United States
CATEGORIES:Kimmswick,Music
ATTACH;FMTTYPE=image/png:https://lachancevineyards.com/wp-content/uploads/2025/07/KIMM-MUSIC-GRAP.png
END:VEVENT
BEGIN:VEVENT
DTSTART;TZID=America/Chicago:20250920T130000
DTEND;TZID=America/Chicago:20250920T160000
DTSTAMP:20260421T134606
CREATED:20250904T152640Z
LAST-MODIFIED:20250904T152640Z
UID:10000131-1758373200-1758384000@lachancevineyards.com
SUMMARY:Three of a Perfect Pair | 1-4pm Kimmswick
DESCRIPTION:
URL:https://lachancevineyards.com/event/three-of-a-perfect-pair-1-4pm-kimmswick/
LOCATION:LaChance Winery & Restaurant\, 6035 2nd Street\, Kimmswick\, MO\, 63053\, United States
CATEGORIES:Kimmswick,Music
ATTACH;FMTTYPE=image/png:https://lachancevineyards.com/wp-content/uploads/2025/07/KIMM-MUSIC-GRAP.png
END:VEVENT
BEGIN:VEVENT
DTSTART;TZID=America/Chicago:20250919T180000
DTEND;TZID=America/Chicago:20250919T210000
DTSTAMP:20260421T134606
CREATED:20250904T152441Z
LAST-MODIFIED:20250904T152441Z
UID:10000130-1758304800-1758315600@lachancevineyards.com
SUMMARY:Rogers and Nienhaus | 6-9pm Kimmswick
DESCRIPTION:
URL:https://lachancevineyards.com/event/rogers-and-nienhaus-6-9pm-kimmswick/
LOCATION:LaChance Winery & Restaurant\, 6035 2nd Street\, Kimmswick\, MO\, 63053\, United States
CATEGORIES:Kimmswick,Music
ATTACH;FMTTYPE=image/png:https://lachancevineyards.com/wp-content/uploads/2025/07/KIMM-MUSIC-GRAP.png
END:VEVENT
BEGIN:VEVENT
DTSTART;TZID=America/Chicago:20250914T130000
DTEND;TZID=America/Chicago:20250914T160000
DTSTAMP:20260421T134606
CREATED:20250904T152229Z
LAST-MODIFIED:20250904T152943Z
UID:10000129-1757854800-1757865600@lachancevineyards.com
SUMMARY:Scott Laytham Duo | 1-4pm Kimmswick
DESCRIPTION:
URL:https://lachancevineyards.com/event/scott-laytham-duo-1-4pm-kimmswick/
LOCATION:LaChance Winery & Restaurant\, 6035 2nd Street\, Kimmswick\, MO\, 63053\, United States
CATEGORIES:Kimmswick,Music
ATTACH;FMTTYPE=image/png:https://lachancevineyards.com/wp-content/uploads/2025/07/KIMM-MUSIC-GRAP.png
END:VEVENT
BEGIN:VEVENT
DTSTART;TZID=America/Chicago:20250913T180000
DTEND;TZID=America/Chicago:20250913T210000
DTSTAMP:20260421T134606
CREATED:20250904T152019Z
LAST-MODIFIED:20250904T152019Z
UID:10000128-1757786400-1757797200@lachancevineyards.com
SUMMARY:Andrew Dahle | 6-9pm Kimmswick
DESCRIPTION:
URL:https://lachancevineyards.com/event/andrew-dahle-6-9pm-kimmswick/
LOCATION:LaChance Winery & Restaurant\, 6035 2nd Street\, Kimmswick\, MO\, 63053\, United States
CATEGORIES:Kimmswick,Music
ATTACH;FMTTYPE=image/png:https://lachancevineyards.com/wp-content/uploads/2025/07/KIMM-MUSIC-GRAP.png
END:VEVENT
BEGIN:VEVENT
DTSTART;TZID=America/Chicago:20250913T130000
DTEND;TZID=America/Chicago:20250913T160000
DTSTAMP:20260421T134606
CREATED:20250904T151630Z
LAST-MODIFIED:20250904T151630Z
UID:10000127-1757768400-1757779200@lachancevineyards.com
SUMMARY:Two Pedros | 1-4pm Kimmswick
DESCRIPTION:
URL:https://lachancevineyards.com/event/two-pedros-1-4pm-kimmswick/
LOCATION:LaChance Winery & Restaurant\, 6035 2nd Street\, Kimmswick\, MO\, 63053\, United States
CATEGORIES:Kimmswick,Music
ATTACH;FMTTYPE=image/png:https://lachancevineyards.com/wp-content/uploads/2025/07/KIMM-MUSIC-GRAP.png
END:VEVENT
BEGIN:VEVENT
DTSTART;TZID=America/Chicago:20250912T180000
DTEND;TZID=America/Chicago:20250912T210000
DTSTAMP:20260421T134606
CREATED:20250904T151456Z
LAST-MODIFIED:20250904T151853Z
UID:10000126-1757700000-1757710800@lachancevineyards.com
SUMMARY:RHB Acoustic | 6-9pm Kimmswick
DESCRIPTION:
URL:https://lachancevineyards.com/event/rhb-acoustic-6-9pm-kimmswick/
LOCATION:LaChance Winery & Restaurant\, 6035 2nd Street\, Kimmswick\, MO\, 63053\, United States
CATEGORIES:Kimmswick,Music
ATTACH;FMTTYPE=image/png:https://lachancevineyards.com/wp-content/uploads/2025/07/KIMM-MUSIC-GRAP.png
END:VEVENT
BEGIN:VEVENT
DTSTART;TZID=America/Chicago:20250907T130000
DTEND;TZID=America/Chicago:20250907T160000
DTSTAMP:20260421T134606
CREATED:20250904T150645Z
LAST-MODIFIED:20250904T150645Z
UID:10000125-1757250000-1757260800@lachancevineyards.com
SUMMARY:The Double D | 1-4pm Kimmswick
DESCRIPTION:
URL:https://lachancevineyards.com/event/the-double-d-1-4pm-kimmswick/
LOCATION:LaChance Winery & Restaurant\, 6035 2nd Street\, Kimmswick\, MO\, 63053\, United States
CATEGORIES:Kimmswick,Music
ATTACH;FMTTYPE=image/png:https://lachancevineyards.com/wp-content/uploads/2025/07/KIMM-MUSIC-GRAP.png
END:VEVENT
BEGIN:VEVENT
DTSTART;TZID=America/Chicago:20250906T180000
DTEND;TZID=America/Chicago:20250906T210000
DTSTAMP:20260421T134606
CREATED:20250904T150425Z
LAST-MODIFIED:20250904T151818Z
UID:10000124-1757181600-1757192400@lachancevineyards.com
SUMMARY:Scottie Kemp | 6-9pm Kimmswick
DESCRIPTION:
URL:https://lachancevineyards.com/event/scottie-kemp-6-9pm-kimmswick/
LOCATION:LaChance Winery & Restaurant\, 6035 2nd Street\, Kimmswick\, MO\, 63053\, United States
CATEGORIES:Kimmswick,Music
ATTACH;FMTTYPE=image/png:https://lachancevineyards.com/wp-content/uploads/2025/07/KIMM-MUSIC-GRAP.png
END:VEVENT
BEGIN:VEVENT
DTSTART;TZID=America/Chicago:20250906T130000
DTEND;TZID=America/Chicago:20250906T160000
DTSTAMP:20260421T134606
CREATED:20250903T190916Z
LAST-MODIFIED:20250903T190916Z
UID:10000123-1757163600-1757174400@lachancevineyards.com
SUMMARY:Kevin Gruen | 1-4pm Kimmswick
DESCRIPTION:
URL:https://lachancevineyards.com/event/kevin-gruen-1-4pm-kimmswick-2/
LOCATION:LaChance Winery & Restaurant\, 6035 2nd Street\, Kimmswick\, MO\, 63053\, United States
CATEGORIES:Kimmswick,Music
ATTACH;FMTTYPE=image/png:https://lachancevineyards.com/wp-content/uploads/2025/07/KIMM-MUSIC-GRAP.png
END:VEVENT
BEGIN:VEVENT
DTSTART;TZID=America/Chicago:20250905T180000
DTEND;TZID=America/Chicago:20250905T210000
DTSTAMP:20260421T134606
CREATED:20250903T190811Z
LAST-MODIFIED:20250903T190811Z
UID:10000122-1757095200-1757106000@lachancevineyards.com
SUMMARY:Greg Worzel Duo | 6-9pm Kimmswick
DESCRIPTION:
URL:https://lachancevineyards.com/event/greg-worzel-duo-6-9pm-kimmswick-2/
LOCATION:LaChance Winery & Restaurant\, 6035 2nd Street\, Kimmswick\, MO\, 63053\, United States
CATEGORIES:Kimmswick,Music
ATTACH;FMTTYPE=image/png:https://lachancevineyards.com/wp-content/uploads/2025/07/KIMM-MUSIC-GRAP.png
END:VEVENT
BEGIN:VEVENT
DTSTART;TZID=America/Chicago:20250831T130000
DTEND;TZID=America/Chicago:20250831T160000
DTSTAMP:20260421T134606
CREATED:20250720T195218Z
LAST-MODIFIED:20250720T195218Z
UID:10000109-1756645200-1756656000@lachancevineyards.com
SUMMARY:Trixie Delight Duo | 1-4pm Kimmswick
DESCRIPTION:
URL:https://lachancevineyards.com/event/trixie-delight-duo-1-4pm-kimmswick/
LOCATION:LaChance Winery & Restaurant\, 6035 2nd Street\, Kimmswick\, MO\, 63053\, United States
CATEGORIES:Kimmswick,Music
ATTACH;FMTTYPE=image/jpeg:https://lachancevineyards.com/wp-content/uploads/2025/07/trixie-duo.jpg
END:VEVENT
BEGIN:VEVENT
DTSTART;TZID=America/Chicago:20250830T180000
DTEND;TZID=America/Chicago:20250830T210000
DTSTAMP:20260421T134606
CREATED:20250720T195118Z
LAST-MODIFIED:20250720T195118Z
UID:10000108-1756576800-1756587600@lachancevineyards.com
SUMMARY:Riley Holtz | 6-9pm Kimmswick
DESCRIPTION:
URL:https://lachancevineyards.com/event/riley-holtz-6-9pm-kimmswick/
LOCATION:MO
CATEGORIES:Kimmswick,Music
END:VEVENT
END:VCALENDAR